BEGIN:VCALENDAR
VERSION:2.0
PRODID:-//Orquestra Filarmonia das Beiras - ECPv6.15.20//NONSGML v1.0//EN
CALSCALE:GREGORIAN
METHOD:PUBLISH
X-WR-CALNAME:Orquestra Filarmonia das Beiras
X-ORIGINAL-URL:https://www.orquestradasbeiras.com
X-WR-CALDESC:Eventos para Orquestra Filarmonia das Beiras
REFRESH-INTERVAL;VALUE=DURATION:PT1H
X-Robots-Tag:noindex
X-PUBLISHED-TTL:PT1H
BEGIN:VTIMEZONE
TZID:Europe/Lisbon
BEGIN:DAYLIGHT
TZOFFSETFROM:+0000
TZOFFSETTO:+0100
TZNAME:WEST
DTSTART:20250330T010000
END:DAYLIGHT
BEGIN:STANDARD
TZOFFSETFROM:+0100
TZOFFSETTO:+0000
TZNAME:WET
DTSTART:20251026T010000
END:STANDARD
BEGIN:DAYLIGHT
TZOFFSETFROM:+0000
TZOFFSETTO:+0100
TZNAME:WEST
DTSTART:20260329T010000
END:DAYLIGHT
BEGIN:STANDARD
TZOFFSETFROM:+0100
TZOFFSETTO:+0000
TZNAME:WET
DTSTART:20261025T010000
END:STANDARD
BEGIN:DAYLIGHT
TZOFFSETFROM:+0000
TZOFFSETTO:+0100
TZNAME:WEST
DTSTART:20270328T010000
END:DAYLIGHT
BEGIN:STANDARD
TZOFFSETFROM:+0100
TZOFFSETTO:+0000
TZNAME:WET
DTSTART:20271031T010000
END:STANDARD
END:VTIMEZONE
BEGIN:VEVENT
DTSTART;TZID=Europe/Lisbon:20260418T180000
DTEND;TZID=Europe/Lisbon:20260418T193000
DTSTAMP:20260422T091238
CREATED:20260331T145207Z
LAST-MODIFIED:20260421T095515Z
UID:30999-1776535200-1776540600@www.orquestradasbeiras.com
SUMMARY:Concerto da Classe de Direção do DeCA/Universidade de Aveiro
DESCRIPTION:No dia 18 de abril\, pelas 18h00\, no Auditório do CCCI do DeCA\, a Orquestra das Beiras apresenta um concerto especial em colaboração com os alunos da Classe de Direção de Orquestra do Departamento de Comunicação e Arte da Universidade de Aveiro. \nReafirmando o seu compromisso no que diz respeito à formação de jovens profissionais\, a orquestra será dirigida pelos alunos do Doutoramento e Mestrado em Música (especialização em Direção de Orquestra) do Departamento de Comunicação e Arte da Universidade de Aveiro — João Ramos\, Francisco Ferreira e Noé Gonçalves — sob orientação pedagógica do Maestro Javier Viceiro-Filgueira. \nO programa ecléctico inicia-se com a célebre Abertura Egmont\, Op. 84 de Ludwig van Beethoven\, seguindo-se o Concerto para Trompete de Johann Baptist Georg Neruda\, interpretado pelo solista Luís Granjo\, obra de virtuosismo característico do repertório para trompete do período barroco tardio. Seguir-se-á ainda o Concerto para Flauta e Cordas de Anne Victorino d’Almeida\, contando com a solista Mafalda Carvalho\, e culmina com a Sinfonia n.º 3\, Op. 56 em Lá menor de Felix Mendelssohn\, também conhecida como Sinfonia Escocesa\, uma das obras mais reconhecíveis e inventivas do compositor\, que pinta autênticos quadros das terras e tradições da antiga Caledónia. \nEste concerto constitui uma oportunidade para o público assistir ao encontro entre formação académica e prática artística profissional\, nutrindo o talento emergente na área da direção de orquestra.
URL:https://www.orquestradasbeiras.com/evento/concerto-da-classe-de-direcao-do-deca-universidade-de-aveiro/
LOCATION:Auditório do DeCA-UA\, Campos Universitário de Santiago\, Universidade de Aveiro\, Aveiro\, 3810-193\, Portugal
ATTACH;FMTTYPE=image/jpeg:https://www.orquestradasbeiras.com/wp-content/uploads/2026/03/Rede_1080x1080px.jpg
END:VEVENT
END:VCALENDAR